BEGIN:VCALENDAR
VERSION:2.0
PRODID:Larrakeyah Officers Mess Test Site (archived WEF 16 Apr 21)
CALSCALE:GREGORIAN
BEGIN:VEVENT
DTSTAMP:20260420T032026Z
UID:e57c600a-272e-416a-ac02-820c3c37770c
DTSTART:20200821T070000Z
DTEND:20200821T090000Z
DESCRIPTION:Test event happening.....\n\nAnte Room.... catering per RAN \n
SUMMARY:Happy Hour
URL;VALUE=URI:https://lomts.tidyhq.com/public/schedule/events/30828-happy-h
 our
END:VEVENT
END:VCALENDAR
